BEGIN:VCALENDAR
VERSION:2.0
PRODID:-//BrewAngels.Com - ECPv6.15.20//NONSGML v1.0//EN
CALSCALE:GREGORIAN
METHOD:PUBLISH
X-WR-CALNAME:BrewAngels.Com
X-ORIGINAL-URL:https://www.brewangels.com
X-WR-CALDESC:Events for BrewAngels.Com
REFRESH-INTERVAL;VALUE=DURATION:PT1H
X-Robots-Tag:noindex
X-PUBLISHED-TTL:PT1H
BEGIN:VTIMEZONE
TZID:America/Los_Angeles
BEGIN:DAYLIGHT
TZOFFSETFROM:-0800
TZOFFSETTO:-0700
TZNAME:PDT
DTSTART:20250309T100000
END:DAYLIGHT
BEGIN:STANDARD
TZOFFSETFROM:-0700
TZOFFSETTO:-0800
TZNAME:PST
DTSTART:20251102T090000
END:STANDARD
BEGIN:DAYLIGHT
TZOFFSETFROM:-0800
TZOFFSETTO:-0700
TZNAME:PDT
DTSTART:20260308T100000
END:DAYLIGHT
BEGIN:STANDARD
TZOFFSETFROM:-0700
TZOFFSETTO:-0800
TZNAME:PST
DTSTART:20261101T090000
END:STANDARD
BEGIN:DAYLIGHT
TZOFFSETFROM:-0800
TZOFFSETTO:-0700
TZNAME:PDT
DTSTART:20270314T100000
END:DAYLIGHT
BEGIN:STANDARD
TZOFFSETFROM:-0700
TZOFFSETTO:-0800
TZNAME:PST
DTSTART:20271107T090000
END:STANDARD
END:VTIMEZONE
BEGIN:VEVENT
DTSTART;VALUE=DATE:20260606
DTEND;VALUE=DATE:20260607
DTSTAMP:20260423T113758
CREATED:20260420T061455Z
LAST-MODIFIED:20260420T061455Z
UID:1272-1780704000-1780790399@www.brewangels.com
SUMMARY:June 6th Meeting (andy and caras)
DESCRIPTION:June 6th Meeting (andy and caras)
URL:https://www.brewangels.com/event/june-6th-meeting-andy-and-caras/
END:VEVENT
BEGIN:VEVENT
DTSTART;VALUE=DATE:20260620
DTEND;VALUE=DATE:20260621
DTSTAMP:20260423T113758
CREATED:20260420T061521Z
LAST-MODIFIED:20260420T061521Z
UID:1274-1781913600-1781999999@www.brewangels.com
SUMMARY:June 20th Commercial Comp Organizing
DESCRIPTION:June 20th Commercial Comp Organizing
URL:https://www.brewangels.com/event/june-20th-commercial-comp-organizing/
END:VEVENT
END:VCALENDAR