BEGIN:VCALENDAR
VERSION:2.0
PRODID:-//BrewAngels.Com - ECPv6.15.20//NONSGML v1.0//EN
CALSCALE:GREGORIAN
METHOD:PUBLISH
X-ORIGINAL-URL:https://www.brewangels.com
X-WR-CALDESC:Events for BrewAngels.Com
REFRESH-INTERVAL;VALUE=DURATION:PT1H
X-Robots-Tag:noindex
X-PUBLISHED-TTL:PT1H
BEGIN:VTIMEZONE
TZID:America/Los_Angeles
BEGIN:DAYLIGHT
TZOFFSETFROM:-0800
TZOFFSETTO:-0700
TZNAME:PDT
DTSTART:20250309T100000
END:DAYLIGHT
BEGIN:STANDARD
TZOFFSETFROM:-0700
TZOFFSETTO:-0800
TZNAME:PST
DTSTART:20251102T090000
END:STANDARD
BEGIN:DAYLIGHT
TZOFFSETFROM:-0800
TZOFFSETTO:-0700
TZNAME:PDT
DTSTART:20260308T100000
END:DAYLIGHT
BEGIN:STANDARD
TZOFFSETFROM:-0700
TZOFFSETTO:-0800
TZNAME:PST
DTSTART:20261101T090000
END:STANDARD
BEGIN:DAYLIGHT
TZOFFSETFROM:-0800
TZOFFSETTO:-0700
TZNAME:PDT
DTSTART:20270314T100000
END:DAYLIGHT
BEGIN:STANDARD
TZOFFSETFROM:-0700
TZOFFSETTO:-0800
TZNAME:PST
DTSTART:20271107T090000
END:STANDARD
END:VTIMEZONE
BEGIN:VEVENT
DTSTART;VALUE=DATE:20260502
DTEND;VALUE=DATE:20260503
DTSTAMP:20260423T101511
CREATED:20260420T061326Z
LAST-MODIFIED:20260420T061326Z
UID:1266-1777680000-1777766399@www.brewangels.com
SUMMARY:May 2nd meeting
DESCRIPTION:May 2nd meeting (Mike and Marianne’s)
URL:https://www.brewangels.com/event/may-2nd-meeting/
END:VEVENT
BEGIN:VEVENT
DTSTART;VALUE=DATE:20260523
DTEND;VALUE=DATE:20260524
DTSTAMP:20260423T101511
CREATED:20260420T061404Z
LAST-MODIFIED:20260420T061404Z
UID:1268-1779494400-1779580799@www.brewangels.com
SUMMARY:May 23 Homebrew Comp Organizing
DESCRIPTION:May 23 Homebrew Comp Organizing
URL:https://www.brewangels.com/event/may-23-homebrew-comp-organizing/
END:VEVENT
BEGIN:VEVENT
DTSTART;VALUE=DATE:20260530
DTEND;VALUE=DATE:20260531
DTSTAMP:20260423T101511
CREATED:20260420T061430Z
LAST-MODIFIED:20260420T061430Z
UID:1270-1780099200-1780185599@www.brewangels.com
SUMMARY:May 30th Homebrew Comp Judging
DESCRIPTION:May 30th Homebrew Comp Judging
URL:https://www.brewangels.com/event/may-30th-homebrew-comp-judging/
END:VEVENT
END:VCALENDAR