BEGIN:VCALENDAR
VERSION:2.0
PRODID:-//BrewAngels.Com - ECPv6.15.20//NONSGML v1.0//EN
CALSCALE:GREGORIAN
METHOD:PUBLISH
X-WR-CALNAME:BrewAngels.Com
X-ORIGINAL-URL:https://www.brewangels.com
X-WR-CALDESC:Events for BrewAngels.Com
REFRESH-INTERVAL;VALUE=DURATION:PT1H
X-Robots-Tag:noindex
X-PUBLISHED-TTL:PT1H
BEGIN:VTIMEZONE
TZID:America/Los_Angeles
BEGIN:DAYLIGHT
TZOFFSETFROM:-0800
TZOFFSETTO:-0700
TZNAME:PDT
DTSTART:20250309T100000
END:DAYLIGHT
BEGIN:STANDARD
TZOFFSETFROM:-0700
TZOFFSETTO:-0800
TZNAME:PST
DTSTART:20251102T090000
END:STANDARD
BEGIN:DAYLIGHT
TZOFFSETFROM:-0800
TZOFFSETTO:-0700
TZNAME:PDT
DTSTART:20260308T100000
END:DAYLIGHT
BEGIN:STANDARD
TZOFFSETFROM:-0700
TZOFFSETTO:-0800
TZNAME:PST
DTSTART:20261101T090000
END:STANDARD
BEGIN:DAYLIGHT
TZOFFSETFROM:-0800
TZOFFSETTO:-0700
TZNAME:PDT
DTSTART:20270314T100000
END:DAYLIGHT
BEGIN:STANDARD
TZOFFSETFROM:-0700
TZOFFSETTO:-0800
TZNAME:PST
DTSTART:20271107T090000
END:STANDARD
END:VTIMEZONE
BEGIN:VEVENT
DTSTART;TZID=America/Los_Angeles:20260314T170000
DTEND;TZID=America/Los_Angeles:20260314T210000
DTSTAMP:20260423T101844
CREATED:20260212T060034Z
LAST-MODIFIED:20260212T060034Z
UID:1258-1773507600-1773522000@www.brewangels.com
SUMMARY:2026 St Patricks Day Fundraiser
DESCRIPTION:3/14/2026 will be our 2026 corned beef fundraiser. \n \nHomebrew and mingling (as well as ticket purchases for our awesome raffle prizes) will begin at 5pm. Dinner is expected to be served at 6pm. \n \nCorned Beef simmered in beer then slow baked with a brown sugar mustard glaze\, potatoes\, cabbage\, breads and desserts. Door prizes\, a raffle\, great food and friends all in the warm comfort of the Micke Grove Memorial Auditorium. \nBuy your tickets HERE today!
URL:https://www.brewangels.com/event/2026-st-patricks-day-fundraiser/
LOCATION:Micke Grove Park\, 11793 N. Micke Grove Rd.\, Lodi\, CA\, 95240\, United States
END:VEVENT
END:VCALENDAR