BEGIN:VCALENDAR
VERSION:2.0
PRODID:-//BrewAngels.Com - ECPv6.15.20//NONSGML v1.0//EN
CALSCALE:GREGORIAN
METHOD:PUBLISH
X-ORIGINAL-URL:https://www.brewangels.com
X-WR-CALDESC:Events for BrewAngels.Com
REFRESH-INTERVAL;VALUE=DURATION:PT1H
X-Robots-Tag:noindex
X-PUBLISHED-TTL:PT1H
BEGIN:VTIMEZONE
TZID:America/Los_Angeles
BEGIN:DAYLIGHT
TZOFFSETFROM:-0800
TZOFFSETTO:-0700
TZNAME:PDT
DTSTART:20220313T100000
END:DAYLIGHT
BEGIN:STANDARD
TZOFFSETFROM:-0700
TZOFFSETTO:-0800
TZNAME:PST
DTSTART:20221106T090000
END:STANDARD
BEGIN:DAYLIGHT
TZOFFSETFROM:-0800
TZOFFSETTO:-0700
TZNAME:PDT
DTSTART:20230312T100000
END:DAYLIGHT
BEGIN:STANDARD
TZOFFSETFROM:-0700
TZOFFSETTO:-0800
TZNAME:PST
DTSTART:20231105T090000
END:STANDARD
BEGIN:DAYLIGHT
TZOFFSETFROM:-0800
TZOFFSETTO:-0700
TZNAME:PDT
DTSTART:20240310T100000
END:DAYLIGHT
BEGIN:STANDARD
TZOFFSETFROM:-0700
TZOFFSETTO:-0800
TZNAME:PST
DTSTART:20241103T090000
END:STANDARD
END:VTIMEZONE
BEGIN:VEVENT
DTSTART;TZID=America/Los_Angeles:20230204T100000
DTEND;TZID=America/Los_Angeles:20230204T170000
DTSTAMP:20260425T114243
CREATED:20221223T072643Z
LAST-MODIFIED:20230130T043102Z
UID:949-1675504800-1675530000@www.brewangels.com
SUMMARY:February 4th Meeting at Five Windows
DESCRIPTION:Brew Day at Five Windows brewery \nPlease come out and brew!! and bring a keg if you have one available to share (even if you aren’t brewing). \nBrew day will start at 10:00am.\nThe meeting will be after we finish brewing\, probably around 3:00.\n\nPlease bring as many raffle prize donations for St. Patrick’s day as possible so we can give them to Ella. This will give her time to put her magic touch on them for the fundraiser.
URL:https://www.brewangels.com/event/february-5th-meeting-at-five-windows/
END:VEVENT
END:VCALENDAR