BEGIN:VCALENDAR
VERSION:2.0
PRODID:-//BrewAngels.Com - ECPv6.15.20//NONSGML v1.0//EN
CALSCALE:GREGORIAN
METHOD:PUBLISH
X-WR-CALNAME:BrewAngels.Com
X-ORIGINAL-URL:https://www.brewangels.com
X-WR-CALDESC:Events for BrewAngels.Com
REFRESH-INTERVAL;VALUE=DURATION:PT1H
X-Robots-Tag:noindex
X-PUBLISHED-TTL:PT1H
BEGIN:VTIMEZONE
TZID:America/Los_Angeles
BEGIN:DAYLIGHT
TZOFFSETFROM:-0800
TZOFFSETTO:-0700
TZNAME:PDT
DTSTART:20210314T100000
END:DAYLIGHT
BEGIN:STANDARD
TZOFFSETFROM:-0700
TZOFFSETTO:-0800
TZNAME:PST
DTSTART:20211107T090000
END:STANDARD
BEGIN:DAYLIGHT
TZOFFSETFROM:-0800
TZOFFSETTO:-0700
TZNAME:PDT
DTSTART:20220313T100000
END:DAYLIGHT
BEGIN:STANDARD
TZOFFSETFROM:-0700
TZOFFSETTO:-0800
TZNAME:PST
DTSTART:20221106T090000
END:STANDARD
BEGIN:DAYLIGHT
TZOFFSETFROM:-0800
TZOFFSETTO:-0700
TZNAME:PDT
DTSTART:20230312T100000
END:DAYLIGHT
BEGIN:STANDARD
TZOFFSETFROM:-0700
TZOFFSETTO:-0800
TZNAME:PST
DTSTART:20231105T090000
END:STANDARD
END:VTIMEZONE
BEGIN:VEVENT
DTSTART;VALUE=DATE:20220915
DTEND;VALUE=DATE:20220919
DTSTAMP:20260425T173357
CREATED:20220723T013505Z
LAST-MODIFIED:20220723T013505Z
UID:913-1663200000-1663545599@www.brewangels.com
SUMMARY:The Northern California Homebrew Festival
DESCRIPTION:The Northern California Homebrew festival is on again this year. Most of us that are going will be there from Thursday to Sunday\, September 15th – 18th but getting there on Friday is okay too. We usually share camping space costs and food costs for the weekend. We have reserved our usual camping spaces.\n\nhttps://nchfinfo.org/
URL:https://www.brewangels.com/event/the-northern-california-homebrew-festival/
END:VEVENT
BEGIN:VEVENT
DTSTART;TZID=America/Los_Angeles:20220924T180000
DTEND;TZID=America/Los_Angeles:20220924T210000
DTSTAMP:20260425T173357
CREATED:20220723T012940Z
LAST-MODIFIED:20220818T000725Z
UID:907-1664042400-1664053200@www.brewangels.com
SUMMARY:Sip and Snack at the Mac
DESCRIPTION:Sip and Snack at the Mac is September 24th at the Macfarland Ranch in Galt. This is another food and wine event that the Brew Angels will be pouring our beer at. This is a fund raiser to support the ranch and the Galt Historical Society.\n\nMore info @\nhttps://consumnesriverfarm.com/events/
URL:https://www.brewangels.com/event/sip-and-snack-at-the-mac/
END:VEVENT
END:VCALENDAR