BEGIN:VCALENDAR
VERSION:2.0
PRODID:-//BrewAngels.Com - ECPv6.15.20//NONSGML v1.0//EN
CALSCALE:GREGORIAN
METHOD:PUBLISH
X-WR-CALNAME:BrewAngels.Com
X-ORIGINAL-URL:https://www.brewangels.com
X-WR-CALDESC:Events for BrewAngels.Com
REFRESH-INTERVAL;VALUE=DURATION:PT1H
X-Robots-Tag:noindex
X-PUBLISHED-TTL:PT1H
BEGIN:VTIMEZONE
TZID:America/Los_Angeles
BEGIN:DAYLIGHT
TZOFFSETFROM:-0800
TZOFFSETTO:-0700
TZNAME:PDT
DTSTART:20210314T100000
END:DAYLIGHT
BEGIN:STANDARD
TZOFFSETFROM:-0700
TZOFFSETTO:-0800
TZNAME:PST
DTSTART:20211107T090000
END:STANDARD
BEGIN:DAYLIGHT
TZOFFSETFROM:-0800
TZOFFSETTO:-0700
TZNAME:PDT
DTSTART:20220313T100000
END:DAYLIGHT
BEGIN:STANDARD
TZOFFSETFROM:-0700
TZOFFSETTO:-0800
TZNAME:PST
DTSTART:20221106T090000
END:STANDARD
BEGIN:DAYLIGHT
TZOFFSETFROM:-0800
TZOFFSETTO:-0700
TZNAME:PDT
DTSTART:20230312T100000
END:DAYLIGHT
BEGIN:STANDARD
TZOFFSETFROM:-0700
TZOFFSETTO:-0800
TZNAME:PST
DTSTART:20231105T090000
END:STANDARD
END:VTIMEZONE
BEGIN:VEVENT
DTSTART;TZID=America/Los_Angeles:20220806T170000
DTEND;TZID=America/Los_Angeles:20220806T200000
DTSTAMP:20260425T185032
CREATED:20220723T014245Z
LAST-MODIFIED:20220723T014245Z
UID:916-1659805200-1659816000@www.brewangels.com
SUMMARY:August 6th Meeting at Five Windows in Lodi
DESCRIPTION:August 6th meeting will be taking place at Five Windows Beer Co in Lodi\, Ca at 5pm. \nFive WIndows \n 
URL:https://www.brewangels.com/event/august-6th-meeting-at-five-windows-in-lodi/
LOCATION:Five Windows\, 9 W Locust St\,\, Lodi\, CA\, 95240\, United States
END:VEVENT
BEGIN:VEVENT
DTSTART;TZID=America/Los_Angeles:20220820T180000
DTEND;TZID=America/Los_Angeles:20220820T210000
DTSTAMP:20260425T185032
CREATED:20220723T012707Z
LAST-MODIFIED:20220723T012707Z
UID:905-1661018400-1661029200@www.brewangels.com
SUMMARY:Stockton Hospice Sip and Stroll
DESCRIPTION:The Stockton Hospice Sip and Stroll event is August 20th. This is a wine and food event and Dave\, Rick\, and George have donated beer and will be pouring the beer on behalf of the Brew Angels. This is a fund raising event for hospice \, so if you can attend and support them it’s a good cause.\n\nGet more info at the website below\n\nhttps://www.hospicesj.org/events/moonlight-sip-stroll
URL:https://www.brewangels.com/event/stockton-hospice-sip-and-stroll/
END:VEVENT
END:VCALENDAR