BEGIN:VCALENDAR
VERSION:2.0
PRODID:-//BrewAngels.Com - ECPv6.15.20//NONSGML v1.0//EN
CALSCALE:GREGORIAN
METHOD:PUBLISH
X-WR-CALNAME:BrewAngels.Com
X-ORIGINAL-URL:https://www.brewangels.com
X-WR-CALDESC:Events for BrewAngels.Com
REFRESH-INTERVAL;VALUE=DURATION:PT1H
X-Robots-Tag:noindex
X-PUBLISHED-TTL:PT1H
BEGIN:VTIMEZONE
TZID:America/Los_Angeles
BEGIN:DAYLIGHT
TZOFFSETFROM:-0800
TZOFFSETTO:-0700
TZNAME:PDT
DTSTART:20180311T100000
END:DAYLIGHT
BEGIN:STANDARD
TZOFFSETFROM:-0700
TZOFFSETTO:-0800
TZNAME:PST
DTSTART:20181104T090000
END:STANDARD
BEGIN:DAYLIGHT
TZOFFSETFROM:-0800
TZOFFSETTO:-0700
TZNAME:PDT
DTSTART:20190310T100000
END:DAYLIGHT
BEGIN:STANDARD
TZOFFSETFROM:-0700
TZOFFSETTO:-0800
TZNAME:PST
DTSTART:20191103T090000
END:STANDARD
BEGIN:DAYLIGHT
TZOFFSETFROM:-0800
TZOFFSETTO:-0700
TZNAME:PDT
DTSTART:20200308T100000
END:DAYLIGHT
BEGIN:STANDARD
TZOFFSETFROM:-0700
TZOFFSETTO:-0800
TZNAME:PST
DTSTART:20201101T090000
END:STANDARD
BEGIN:DAYLIGHT
TZOFFSETFROM:-0800
TZOFFSETTO:-0700
TZNAME:PDT
DTSTART:20210314T100000
END:DAYLIGHT
BEGIN:STANDARD
TZOFFSETFROM:-0700
TZOFFSETTO:-0800
TZNAME:PST
DTSTART:20211107T090000
END:STANDARD
END:VTIMEZONE
BEGIN:VEVENT
DTSTART;TZID=America/Los_Angeles:20200516T100000
DTEND;TZID=America/Los_Angeles:20200516T130000
DTSTAMP:20260423T232236
CREATED:20200131T200559Z
LAST-MODIFIED:20200401T135848Z
UID:515-1589623200-1589634000@www.brewangels.com
SUMMARY:Amador Homebrew Organizing
DESCRIPTION:Meet at Highwater brewing to register and organize homebrew entries.
URL:https://www.brewangels.com/event/amador-homebrew-registration/
LOCATION:Highwater Brewing\, 927 Industrial Way\, Lodi\, CA\, 95240\, United States
CATEGORIES:Beer Competitions
END:VEVENT
BEGIN:VEVENT
DTSTART;TZID=America/Los_Angeles:20200509T000000
DTEND;TZID=America/Los_Angeles:20200509T150000
DTSTAMP:20260423T232236
CREATED:20190517T040741Z
LAST-MODIFIED:20200401T135639Z
UID:75-1588982400-1589036400@www.brewangels.com
SUMMARY:Amador Homebrew Entry Cutoff
DESCRIPTION:Cutoff day for Amador Homebrew Competition entries.
URL:https://www.brewangels.com/event/cutoff-for-amador-homebrew-entries/
CATEGORIES:Beer Competitions
END:VEVENT
BEGIN:VEVENT
DTSTART;TZID=America/Los_Angeles:20200314T170000
DTEND;TZID=America/Los_Angeles:20200314T220000
DTSTAMP:20260423T232236
CREATED:20200104T175713Z
LAST-MODIFIED:20201128T201843Z
UID:344-1584205200-1584223200@www.brewangels.com
SUMMARY:Saint Patricks Fundraiser
DESCRIPTION:Saturday March 13\, 2020 \nDoors open at 5:00pm\, dinner around 6:00 \nMemorial Auditorium at Micke Grove Park \nCorned Beef simmered in beer then slow baked with a brown sugar mustard glaze\, potatoes\, cabbage\, breads and desserts. Great food and friends all in the warm comfort of the Micke Grove Memorial Auditorium.
URL:https://www.brewangels.com/event/saint-patricks-fundraiser/
LOCATION:Micke Grove Park\, 11793 N. Micke Grove Rd.\, Lodi\, CA\, 95240\, United States
END:VEVENT
BEGIN:VEVENT
DTSTART;VALUE=DATE:20200307
DTEND;VALUE=DATE:20200308
DTSTAMP:20260423T232236
CREATED:20200131T200217Z
LAST-MODIFIED:20200131T200217Z
UID:513-1583539200-1583625599@www.brewangels.com
SUMMARY:Amador Homebrew Entry Open
DESCRIPTION:Homebrew entries for the Amador Homebrew Competition are open!
URL:https://www.brewangels.com/event/amador-homebrew-entry-open/
END:VEVENT
BEGIN:VEVENT
DTSTART;TZID=America/Los_Angeles:20200215T100000
DTEND;TZID=America/Los_Angeles:20200215T170000
DTSTAMP:20260423T232236
CREATED:20200107T034144Z
LAST-MODIFIED:20200131T195352Z
UID:465-1581760800-1581786000@www.brewangels.com
SUMMARY:Brew Day
DESCRIPTION:The second annual club brew day will be at the Lodi Wine Lab. The purpose of the brew day is to prepare for our Saint Patrick’s fundraiser and also to promote the homebrew hobby with the Wine Lab. \nPlease haul your equipment out and brew a batch\, and also bring along friends or family members to learn about the art of home-brewing.  Don’t forget the Wine Lab offers a discount to club members for ingredients and supplies. \nAs usual the Wine Lab will host a lunch and club members should try to bring a keg or bottles to share with Wine Lab patrons and talk up the hobby.
URL:https://www.brewangels.com/event/february-brew-day/
LOCATION:Lodi Wine Lab\, 710 Beckman Rd Suite A\, Lodi\, 95240\, United States
ORGANIZER;CN="":MAILTO:webmaster@brewangels.com
END:VEVENT
BEGIN:VEVENT
DTSTART;TZID=America/Los_Angeles:20191214T160000
DTEND;TZID=America/Los_Angeles:20191214T210000
DTSTAMP:20260423T232236
CREATED:20191115T045700Z
LAST-MODIFIED:20191115T212050Z
UID:140-1576339200-1576357200@www.brewangels.com
SUMMARY:Brew Angels Annual Christmas Party
DESCRIPTION:The annual Brew Angels Christmas Party will be on December 14\, 2019 at the Quail Lakes Clubhouse. Members are encouraged to bring side dishes\, desserts\, and of course homebrew. The tapper will be available but bring a faucet and gas just in case. In addition\, members are encouraged to bring chairs if they wish to sit around outside\, small tables for outside\, and space heaters for outside. \nThe club will be contributing to Toys for Tots. Please bring a new toy to donate. \nCheers and we look forward to seeing all members!
URL:https://www.brewangels.com/event/brew-angels-annual-christmas-party/
LOCATION:Quail Lakes Clubhouse\, 3808 Quail Lakes Dr\, Stockton\, CA\, 95207\, United States
CATEGORIES:Meetings,Special Events
END:VEVENT
BEGIN:VEVENT
DTSTART;TZID=America/Los_Angeles:20190615T150000
DTEND;TZID=America/Los_Angeles:20190615T180000
DTSTAMP:20260423T232236
CREATED:20190517T040511Z
LAST-MODIFIED:20190517T040531Z
UID:72-1560610800-1560621600@www.brewangels.com
SUMMARY:Lodi Craft Beer Festival
DESCRIPTION:
URL:https://www.brewangels.com/event/lodi-craft-beer-festival/
LOCATION:Lodi Lake Park\, 1101 W Turner Road\, Lodi\, CA\, 95242\, United States
CATEGORIES:Beer Festivals-Club Involved
END:VEVENT
END:VCALENDAR