BEGIN:VCALENDAR
VERSION:2.0
PRODID:-//BrewAngels.Com - ECPv6.15.20//NONSGML v1.0//EN
CALSCALE:GREGORIAN
METHOD:PUBLISH
X-ORIGINAL-URL:https://www.brewangels.com
X-WR-CALDESC:Events for BrewAngels.Com
REFRESH-INTERVAL;VALUE=DURATION:PT1H
X-Robots-Tag:noindex
X-PUBLISHED-TTL:PT1H
BEGIN:VTIMEZONE
TZID:America/Los_Angeles
BEGIN:DAYLIGHT
TZOFFSETFROM:-0800
TZOFFSETTO:-0700
TZNAME:PDT
DTSTART:20240310T100000
END:DAYLIGHT
BEGIN:STANDARD
TZOFFSETFROM:-0700
TZOFFSETTO:-0800
TZNAME:PST
DTSTART:20241103T090000
END:STANDARD
BEGIN:DAYLIGHT
TZOFFSETFROM:-0800
TZOFFSETTO:-0700
TZNAME:PDT
DTSTART:20250309T100000
END:DAYLIGHT
BEGIN:STANDARD
TZOFFSETFROM:-0700
TZOFFSETTO:-0800
TZNAME:PST
DTSTART:20251102T090000
END:STANDARD
BEGIN:DAYLIGHT
TZOFFSETFROM:-0800
TZOFFSETTO:-0700
TZNAME:PDT
DTSTART:20260308T100000
END:DAYLIGHT
BEGIN:STANDARD
TZOFFSETFROM:-0700
TZOFFSETTO:-0800
TZNAME:PST
DTSTART:20261101T090000
END:STANDARD
BEGIN:DAYLIGHT
TZOFFSETFROM:-0800
TZOFFSETTO:-0700
TZNAME:PDT
DTSTART:20270314T100000
END:DAYLIGHT
BEGIN:STANDARD
TZOFFSETFROM:-0700
TZOFFSETTO:-0800
TZNAME:PST
DTSTART:20271107T090000
END:STANDARD
END:VTIMEZONE
BEGIN:VEVENT
DTSTART;TZID=America/Los_Angeles:20250607T130000
DTEND;TZID=America/Los_Angeles:20250607T170000
DTSTAMP:20260425T035700
CREATED:20250513T030700Z
LAST-MODIFIED:20250603T044730Z
UID:1208-1749301200-1749315600@www.brewangels.com
SUMMARY:June 7th Meeting
DESCRIPTION:Hosted by Rick and Cheryl Stanton
URL:https://www.brewangels.com/event/june-7th-meeting/
END:VEVENT
BEGIN:VEVENT
DTSTART;VALUE=DATE:20250712
DTEND;VALUE=DATE:20250713
DTSTAMP:20260425T035700
CREATED:20250513T030809Z
LAST-MODIFIED:20250513T030809Z
UID:1210-1752278400-1752364799@www.brewangels.com
SUMMARY:July 12th Meeting
DESCRIPTION:Hosted by John and Ella.
URL:https://www.brewangels.com/event/july-12th-meeting/
END:VEVENT
BEGIN:VEVENT
DTSTART;VALUE=DATE:20250802
DTEND;VALUE=DATE:20250803
DTSTAMP:20260425T035700
CREATED:20250513T030911Z
LAST-MODIFIED:20250513T030911Z
UID:1212-1754092800-1754179199@www.brewangels.com
SUMMARY:August 2nd Picnic
DESCRIPTION:At Mickeys Grove
URL:https://www.brewangels.com/event/august-2nd-picnic/
END:VEVENT
BEGIN:VEVENT
DTSTART;TZID=America/Los_Angeles:20250906T120000
DTEND;TZID=America/Los_Angeles:20250906T170000
DTSTAMP:20260425T035700
CREATED:20250904T165314Z
LAST-MODIFIED:20250904T165314Z
UID:1224-1757160000-1757178000@www.brewangels.com
SUMMARY:September meeting
DESCRIPTION:Octoberfest at Mike G’s
URL:https://www.brewangels.com/event/september-meeting/
END:VEVENT
BEGIN:VEVENT
DTSTART;VALUE=DATE:20250927
DTEND;VALUE=DATE:20250928
DTSTAMP:20260425T035700
CREATED:20250908T052128Z
LAST-MODIFIED:20250908T212206Z
UID:1238-1758931200-1759017599@www.brewangels.com
SUMMARY:Amador Commercial Competition
DESCRIPTION:Due to the county fairgrounds being used by firefighters this competition has moved to Sept. 27th @ the Amador County fairgrounds \nhttps://commercial.beers4amador.com/
URL:https://www.brewangels.com/event/amador-commercial-competition-2/
END:VEVENT
BEGIN:VEVENT
DTSTART;TZID=America/Los_Angeles:20251004T090000
DTEND;TZID=America/Los_Angeles:20251004T190000
DTSTAMP:20260425T035700
CREATED:20250908T051445Z
LAST-MODIFIED:20250908T053120Z
UID:1234-1759568400-1759604400@www.brewangels.com
SUMMARY:October 4th Pub Crawl
DESCRIPTION:Bus leaves at 9am from Dicks Sporting goods lodi \nPetaluma  Hen House \nLunch at Russian River Brewing Co. \nSonoma Springs Brewery on the way home
URL:https://www.brewangels.com/event/october-4th-pub-crawl/
END:VEVENT
BEGIN:VEVENT
DTSTART;VALUE=DATE:20251115
DTEND;VALUE=DATE:20251116
DTSTAMP:20260425T035700
CREATED:20250908T052215Z
LAST-MODIFIED:20250908T052923Z
UID:1240-1763164800-1763251199@www.brewangels.com
SUMMARY:November 15th Meeting
DESCRIPTION:Meeting being hosted by Andy with a Thanksgiving theme
URL:https://www.brewangels.com/event/november-15th-meeting/
END:VEVENT
BEGIN:VEVENT
DTSTART;VALUE=DATE:20260110
DTEND;VALUE=DATE:20260111
DTSTAMP:20260425T035700
CREATED:20251222T055748Z
LAST-MODIFIED:20251222T055748Z
UID:1252-1768003200-1768089599@www.brewangels.com
SUMMARY:January 10th Meeting
DESCRIPTION:January 10th at chili cook-off Rick Stanton’s
URL:https://www.brewangels.com/event/january-10th-meeting/
END:VEVENT
BEGIN:VEVENT
DTSTART;TZID=America/Los_Angeles:20260314T170000
DTEND;TZID=America/Los_Angeles:20260314T210000
DTSTAMP:20260425T035700
CREATED:20260212T060034Z
LAST-MODIFIED:20260212T060034Z
UID:1258-1773507600-1773522000@www.brewangels.com
SUMMARY:2026 St Patricks Day Fundraiser
DESCRIPTION:3/14/2026 will be our 2026 corned beef fundraiser. \n \nHomebrew and mingling (as well as ticket purchases for our awesome raffle prizes) will begin at 5pm. Dinner is expected to be served at 6pm. \n \nCorned Beef simmered in beer then slow baked with a brown sugar mustard glaze\, potatoes\, cabbage\, breads and desserts. Door prizes\, a raffle\, great food and friends all in the warm comfort of the Micke Grove Memorial Auditorium. \nBuy your tickets HERE today!
URL:https://www.brewangels.com/event/2026-st-patricks-day-fundraiser/
LOCATION:Micke Grove Park\, 11793 N. Micke Grove Rd.\, Lodi\, CA\, 95240\, United States
END:VEVENT
BEGIN:VEVENT
DTSTART;TZID=America/Los_Angeles:20260502T120000
DTEND;TZID=America/Los_Angeles:20260502T180000
DTSTAMP:20260425T035700
CREATED:20260420T061326Z
LAST-MODIFIED:20260424T052735Z
UID:1266-1777723200-1777744800@www.brewangels.com
SUMMARY:May 2nd meeting
DESCRIPTION:May 2nd meeting (Mike and Marianne’s)
URL:https://www.brewangels.com/event/may-2nd-meeting/
END:VEVENT
BEGIN:VEVENT
DTSTART;VALUE=DATE:20260523
DTEND;VALUE=DATE:20260524
DTSTAMP:20260425T035700
CREATED:20260420T061404Z
LAST-MODIFIED:20260420T061404Z
UID:1268-1779494400-1779580799@www.brewangels.com
SUMMARY:May 23 Homebrew Comp Organizing
DESCRIPTION:May 23 Homebrew Comp Organizing
URL:https://www.brewangels.com/event/may-23-homebrew-comp-organizing/
END:VEVENT
BEGIN:VEVENT
DTSTART;VALUE=DATE:20260530
DTEND;VALUE=DATE:20260531
DTSTAMP:20260425T035700
CREATED:20260420T061430Z
LAST-MODIFIED:20260420T061430Z
UID:1270-1780099200-1780185599@www.brewangels.com
SUMMARY:May 30th Homebrew Comp Judging
DESCRIPTION:May 30th Homebrew Comp Judging
URL:https://www.brewangels.com/event/may-30th-homebrew-comp-judging/
END:VEVENT
BEGIN:VEVENT
DTSTART;VALUE=DATE:20260606
DTEND;VALUE=DATE:20260607
DTSTAMP:20260425T035700
CREATED:20260420T061455Z
LAST-MODIFIED:20260420T061455Z
UID:1272-1780704000-1780790399@www.brewangels.com
SUMMARY:June 6th Meeting (andy and caras)
DESCRIPTION:June 6th Meeting (andy and caras)
URL:https://www.brewangels.com/event/june-6th-meeting-andy-and-caras/
END:VEVENT
BEGIN:VEVENT
DTSTART;VALUE=DATE:20260620
DTEND;VALUE=DATE:20260621
DTSTAMP:20260425T035700
CREATED:20260420T061521Z
LAST-MODIFIED:20260420T061521Z
UID:1274-1781913600-1781999999@www.brewangels.com
SUMMARY:June 20th Commercial Comp Organizing
DESCRIPTION:June 20th Commercial Comp Organizing
URL:https://www.brewangels.com/event/june-20th-commercial-comp-organizing/
END:VEVENT
BEGIN:VEVENT
DTSTART;VALUE=DATE:20260711
DTEND;VALUE=DATE:20260712
DTSTAMP:20260425T035700
CREATED:20260420T062442Z
LAST-MODIFIED:20260420T062442Z
UID:1276-1783728000-1783814399@www.brewangels.com
SUMMARY:July 11th meeting
DESCRIPTION:July 11th meeting (need host)
URL:https://www.brewangels.com/event/july-11th-meeting/
END:VEVENT
BEGIN:VEVENT
DTSTART;VALUE=DATE:20260801
DTEND;VALUE=DATE:20260802
DTSTAMP:20260425T035700
CREATED:20260420T062512Z
LAST-MODIFIED:20260420T062512Z
UID:1278-1785542400-1785628799@www.brewangels.com
SUMMARY:August 1st meeting (Bills house)
DESCRIPTION:August 1st meeting (Bills house)
URL:https://www.brewangels.com/event/august-1st-meeting-bills-house/
END:VEVENT
BEGIN:VEVENT
DTSTART;VALUE=DATE:20260912
DTEND;VALUE=DATE:20260913
DTSTAMP:20260425T035700
CREATED:20260420T062539Z
LAST-MODIFIED:20260420T062539Z
UID:1280-1789171200-1789257599@www.brewangels.com
SUMMARY:September 12th Club Picnic (Mickey’s Grove)
DESCRIPTION:September 12th Club Picnic (Mickey’s Grove)
URL:https://www.brewangels.com/event/september-12th-club-picnic-mickeys-grove/
END:VEVENT
BEGIN:VEVENT
DTSTART;VALUE=DATE:20261107
DTEND;VALUE=DATE:20261108
DTSTAMP:20260425T035700
CREATED:20260420T062628Z
LAST-MODIFIED:20260420T062659Z
UID:1282-1794009600-1794095999@www.brewangels.com
SUMMARY:November 7th meeting
DESCRIPTION:November 7th meeting (need host)
URL:https://www.brewangels.com/event/november-7th-meeting/
END:VEVENT
BEGIN:VEVENT
DTSTART;VALUE=DATE:20261205
DTEND;VALUE=DATE:20261206
DTSTAMP:20260425T035700
CREATED:20260420T062724Z
LAST-MODIFIED:20260420T062724Z
UID:1284-1796428800-1796515199@www.brewangels.com
SUMMARY:December 5th meeting - Christmas Party
DESCRIPTION:December 5th meeting – Christmas Party
URL:https://www.brewangels.com/event/december-5th-meeting-christmas-party/
END:VEVENT
END:VCALENDAR