BEGIN:VCALENDAR
VERSION:2.0
PRODID:-//BrewAngels.Com - ECPv6.15.20//NONSGML v1.0//EN
CALSCALE:GREGORIAN
METHOD:PUBLISH
X-WR-CALNAME:BrewAngels.Com
X-ORIGINAL-URL:https://www.brewangels.com
X-WR-CALDESC:Events for BrewAngels.Com
REFRESH-INTERVAL;VALUE=DURATION:PT1H
X-Robots-Tag:noindex
X-PUBLISHED-TTL:PT1H
BEGIN:VTIMEZONE
TZID:America/Los_Angeles
BEGIN:DAYLIGHT
TZOFFSETFROM:-0800
TZOFFSETTO:-0700
TZNAME:PDT
DTSTART:20210314T100000
END:DAYLIGHT
BEGIN:STANDARD
TZOFFSETFROM:-0700
TZOFFSETTO:-0800
TZNAME:PST
DTSTART:20211107T090000
END:STANDARD
BEGIN:DAYLIGHT
TZOFFSETFROM:-0800
TZOFFSETTO:-0700
TZNAME:PDT
DTSTART:20220313T100000
END:DAYLIGHT
BEGIN:STANDARD
TZOFFSETFROM:-0700
TZOFFSETTO:-0800
TZNAME:PST
DTSTART:20221106T090000
END:STANDARD
BEGIN:DAYLIGHT
TZOFFSETFROM:-0800
TZOFFSETTO:-0700
TZNAME:PDT
DTSTART:20230312T100000
END:DAYLIGHT
BEGIN:STANDARD
TZOFFSETFROM:-0700
TZOFFSETTO:-0800
TZNAME:PST
DTSTART:20231105T090000
END:STANDARD
BEGIN:DAYLIGHT
TZOFFSETFROM:-0800
TZOFFSETTO:-0700
TZNAME:PDT
DTSTART:20240310T100000
END:DAYLIGHT
BEGIN:STANDARD
TZOFFSETFROM:-0700
TZOFFSETTO:-0800
TZNAME:PST
DTSTART:20241103T090000
END:STANDARD
BEGIN:DAYLIGHT
TZOFFSETFROM:-0800
TZOFFSETTO:-0700
TZNAME:PDT
DTSTART:20250309T100000
END:DAYLIGHT
BEGIN:STANDARD
TZOFFSETFROM:-0700
TZOFFSETTO:-0800
TZNAME:PST
DTSTART:20251102T090000
END:STANDARD
BEGIN:DAYLIGHT
TZOFFSETFROM:-0800
TZOFFSETTO:-0700
TZNAME:PDT
DTSTART:20260308T100000
END:DAYLIGHT
BEGIN:STANDARD
TZOFFSETFROM:-0700
TZOFFSETTO:-0800
TZNAME:PST
DTSTART:20261101T090000
END:STANDARD
END:VTIMEZONE
BEGIN:VEVENT
DTSTART;TZID=America/Los_Angeles:20250301T140000
DTEND;TZID=America/Los_Angeles:20250301T170000
DTSTAMP:20260423T172802
CREATED:20250204T234822Z
LAST-MODIFIED:20250204T234822Z
UID:1191-1740837600-1740848400@www.brewangels.com
SUMMARY:March 1st Meeting
DESCRIPTION:We need a host
URL:https://www.brewangels.com/event/march-1st-meeting/
LOCATION:CA
END:VEVENT
BEGIN:VEVENT
DTSTART;TZID=America/Los_Angeles:20250208T140000
DTEND;TZID=America/Los_Angeles:20250208T170000
DTSTAMP:20260423T172802
CREATED:20250128T051116Z
LAST-MODIFIED:20250203T175455Z
UID:1180-1739023200-1739034000@www.brewangels.com
SUMMARY:Feb 8 - Andy and Caras
DESCRIPTION:Located at Andy and Caras.
URL:https://www.brewangels.com/event/feb-8-brew-day/
LOCATION:CA
END:VEVENT
BEGIN:VEVENT
DTSTART;TZID=America/Los_Angeles:20241207T080000
DTEND;TZID=America/Los_Angeles:20241207T170000
DTSTAMP:20260423T172802
CREATED:20240825T031446Z
LAST-MODIFIED:20240825T031446Z
UID:1161-1733558400-1733590800@www.brewangels.com
SUMMARY:Christmas Party and Meeting Dec 7
DESCRIPTION:Our annual Christmas party \nHosted by Jenny
URL:https://www.brewangels.com/event/christmas-party-and-meeting-dec-7/
LOCATION:CA
END:VEVENT
BEGIN:VEVENT
DTSTART;TZID=America/Los_Angeles:20241109T080000
DTEND;TZID=America/Los_Angeles:20241109T170000
DTSTAMP:20260423T172802
CREATED:20240825T031312Z
LAST-MODIFIED:20240825T031312Z
UID:1159-1731139200-1731171600@www.brewangels.com
SUMMARY:November 9th Meeting
DESCRIPTION:Hosted by Andy \nMore info tba
URL:https://www.brewangels.com/event/november-9th-meeting/
LOCATION:CA
END:VEVENT
BEGIN:VEVENT
DTSTART;TZID=America/Los_Angeles:20241005T080000
DTEND;TZID=America/Los_Angeles:20241005T170000
DTSTAMP:20260423T172802
CREATED:20240825T031216Z
LAST-MODIFIED:20240913T062609Z
UID:1157-1728115200-1728147600@www.brewangels.com
SUMMARY:Pubcrawl October 5th
DESCRIPTION:The first stop will be Moonraker Millhouse (https://www.moonrakerbrewing.com/millhouse). \nThe second stop will be Boring Rose Brewing Co (https://www.boringrose.com/). \nWe will be having lunch at Boring Rose. \nThen off to our third stop at Bike Dog Brewing East Sac (https://bikedogbrewing.com/east-sac-taproom/) \nThe ticket price covers the bus\, beer\, and lunch. \nPrices are $65 \nPickup location: \nDicks Sporting Goods \n2760 Reynolds Ranch Parkway \nLodi\, Ca. \nBus will leave at 10:00 am sharp\, so please arrive a little early. \nWe should be back at approximately 6:00 pm. \n  \n 
URL:https://www.brewangels.com/event/pubcrawl-october-5th/
LOCATION:CA
END:VEVENT
BEGIN:VEVENT
DTSTART;TZID=America/Los_Angeles:20240907T140000
DTEND;TZID=America/Los_Angeles:20240907T190000
DTSTAMP:20260423T172802
CREATED:20240825T031054Z
LAST-MODIFIED:20240825T031054Z
UID:1155-1725717600-1725735600@www.brewangels.com
SUMMARY:September 7th  Meeting Lodi Lake Beerfest
DESCRIPTION:Lodi Beer Fest September 7th. We need kegs to serve.
URL:https://www.brewangels.com/event/september-7th-meeting-lodi-lake-beerfest/
LOCATION:CA
END:VEVENT
BEGIN:VEVENT
DTSTART;TZID=America/Los_Angeles:20240810T120000
DTEND;TZID=America/Los_Angeles:20240810T170000
DTSTAMP:20260423T172802
CREATED:20240513T224713Z
LAST-MODIFIED:20240805T215239Z
UID:1131-1723291200-1723309200@www.brewangels.com
SUMMARY:August 10th Picnic
DESCRIPTION:This Saturday\, August 10th\, is our monthly meeting. \nJenny will be hosting the meeting: \nWe’ll be serving tri-tip and Rick’s famous marinated shrimp. Please bring appetizers and side dishes. Please plan on arriving around 12:00pm. A few of us will be arriving a little earlier to clean shrimp and setup. \nAlso\, please bring beer\, especially homebrew if you have it!
URL:https://www.brewangels.com/event/august-9th-picnic/
LOCATION:CA
END:VEVENT
BEGIN:VEVENT
DTSTART;TZID=America/Los_Angeles:20240713T080000
DTEND;TZID=America/Los_Angeles:20240713T170000
DTSTAMP:20260423T172802
CREATED:20240513T224647Z
LAST-MODIFIED:20240513T224929Z
UID:1129-1720857600-1720890000@www.brewangels.com
SUMMARY:July 13th Meeting
DESCRIPTION:tba
URL:https://www.brewangels.com/event/july-13th-meeting/
LOCATION:CA
END:VEVENT
BEGIN:VEVENT
DTSTART;TZID=America/Los_Angeles:20240608T080000
DTEND;TZID=America/Los_Angeles:20240608T170000
DTSTAMP:20260423T172802
CREATED:20240216T052125Z
LAST-MODIFIED:20240216T052125Z
UID:1111-1717833600-1717866000@www.brewangels.com
SUMMARY:Amador County Fair Homebrew Competition
DESCRIPTION:Details TBA
URL:https://www.brewangels.com/event/amador-county-fair-homebrew-competition-2/
LOCATION:CA
END:VEVENT
BEGIN:VEVENT
DTSTART;TZID=America/Los_Angeles:20240601T140000
DTEND;TZID=America/Los_Angeles:20240601T170000
DTSTAMP:20260423T172802
CREATED:20240513T224616Z
LAST-MODIFIED:20240525T041940Z
UID:1127-1717250400-1717261200@www.brewangels.com
SUMMARY:June 1st Meeting
DESCRIPTION:At Side Hustle Brewing
URL:https://www.brewangels.com/event/june-1st-meeting/
LOCATION:CA
END:VEVENT
BEGIN:VEVENT
DTSTART;TZID=America/Los_Angeles:20240511T090000
DTEND;TZID=America/Los_Angeles:20240511T180000
DTSTAMP:20260423T172802
CREATED:20240214T061217Z
LAST-MODIFIED:20240214T061217Z
UID:1104-1715418000-1715450400@www.brewangels.com
SUMMARY:Mickes Grove Picnic
DESCRIPTION:+ Club Spring Picnic\n – May 11th\n – Mickey Grove Park\, Calaveras Pavilion (next to History Museum)\n – Set up begins at 9 am
URL:https://www.brewangels.com/event/mickes-grove-picnic/
LOCATION:Micke Grove Park\, 11793 N. Micke Grove Rd.\, Lodi\, CA\, 95240\, United States
END:VEVENT
BEGIN:VEVENT
DTSTART;TZID=America/Los_Angeles:20240309T170000
DTEND;TZID=America/Los_Angeles:20240309T210000
DTSTAMP:20260423T172802
CREATED:20240214T062526Z
LAST-MODIFIED:20240216T052258Z
UID:1106-1710003600-1710018000@www.brewangels.com
SUMMARY:St Patricks Day Fundraiser 2024
DESCRIPTION:Mark your calendars\, \n3/9/2024 will be our 2024 corned beef fundraiser. \nHomebrew and mingling (as well as ticket purchases for our awesome raffle prizes) will begin at 5pm. Dinner is expected to be served at 6pm. \nCorned Beef simmered in beer then slow baked with a brown sugar mustard glaze\, potatoes\, cabbage\, breads and desserts. Door prizes\, a raffle\, great food and friends all in the warm comfort of the Micke Grove Memorial Auditorium. \nBuy your tickets HERE
URL:https://www.brewangels.com/event/st-patricks-day-fundraiser-2024/
LOCATION:Micke Grove Park\, 11793 N. Micke Grove Rd.\, Lodi\, CA\, 95240\, United States
END:VEVENT
BEGIN:VEVENT
DTSTART;TZID=America/Los_Angeles:20240302T150000
DTEND;TZID=America/Los_Angeles:20240302T180000
DTSTAMP:20260423T172802
CREATED:20240214T060451Z
LAST-MODIFIED:20240214T060451Z
UID:1101-1709391600-1709402400@www.brewangels.com
SUMMARY:March 2nd Meeting
DESCRIPTION:At Jennys Home \nmore info tba
URL:https://www.brewangels.com/event/march-2nd-meeting/
LOCATION:CA
END:VEVENT
BEGIN:VEVENT
DTSTART;TZID=America/Los_Angeles:20240210T100000
DTEND;TZID=America/Los_Angeles:20240210T170000
DTSTAMP:20260423T172802
CREATED:20240125T090453Z
LAST-MODIFIED:20240125T090453Z
UID:1095-1707559200-1707584400@www.brewangels.com
SUMMARY:Feb 10th Meeting
DESCRIPTION:At Five Windows Brewing \nBrewing starts at 10 \nMeeting at 3
URL:https://www.brewangels.com/event/feb-10th-meeting/
LOCATION:Five Windows\, 9 W Locust St\,\, Lodi\, CA\, 95240\, United States
END:VEVENT
BEGIN:VEVENT
DTSTART;TZID=America/Los_Angeles:20240113T100000
DTEND;TZID=America/Los_Angeles:20240113T170000
DTSTAMP:20260423T172802
CREATED:20240104T003800Z
LAST-MODIFIED:20240104T003800Z
UID:1090-1705140000-1705165200@www.brewangels.com
SUMMARY:January 13th - Brew day and Chili Cook off
DESCRIPTION:January 13th – Brew day and Chili Cook off at the home of John Mansu
URL:https://www.brewangels.com/event/january-13th-brew-day-and-chili-cook-off/
LOCATION:CA
END:VEVENT
BEGIN:VEVENT
DTSTART;TZID=America/Los_Angeles:20231202T150000
DTEND;TZID=America/Los_Angeles:20231202T210000
DTSTAMP:20260423T172802
CREATED:20230926T031906Z
LAST-MODIFIED:20231113T031133Z
UID:1074-1701529200-1701550800@www.brewangels.com
SUMMARY:December 2nd - Christmas Party
DESCRIPTION:Christmas Party at Samie’s house on Saturday\,  December 2nd starting at 3pm.
URL:https://www.brewangels.com/event/december-2nd-christmas-party/
LOCATION:CA
END:VEVENT
BEGIN:VEVENT
DTSTART;TZID=America/Los_Angeles:20231104T140000
DTEND;TZID=America/Los_Angeles:20231104T180000
DTSTAMP:20260423T172802
CREATED:20230926T031824Z
LAST-MODIFIED:20231009T210807Z
UID:1072-1699106400-1699120800@www.brewangels.com
SUMMARY:November 4th Meeting
DESCRIPTION:November 4th – Meeting \nAt Rick Stantons. He will be making lasagna for the meeting so is asking for green salads garlic breads deserts and appetizers.  We are starting at two eating around 3:30 \n 
URL:https://www.brewangels.com/event/november-4th-meeting/
LOCATION:CA
END:VEVENT
BEGIN:VEVENT
DTSTART;TZID=America/Los_Angeles:20231014T093000
DTEND;TZID=America/Los_Angeles:20231014T183000
DTSTAMP:20260423T172802
CREATED:20231015T051700Z
LAST-MODIFIED:20230926T031124Z
UID:1056-1697275800-1697308200@www.brewangels.com
SUMMARY:Pub Crawl!!
DESCRIPTION:The pub crawl will be on Saturday\, October 14th. \nThis year we will be going to Chico with two stops \nThe first stop will be Secret Trail Brewing (https://secrettrailbrewing.com/). \nThe second stop will be Sierra Nevada Brewing (https://sierranevada.com/visit/chico/taproom/). \nWe will be having lunch at Sierra Nevada. \nThe ticket price covers the bus\, beer\, and lunch. \nPrices are $65 \nPickup location: \nDicks Sporting Goods \n2760 Reynolds Ranch Parkway \nLodi\, Ca. \nBus will leave at 9:30am sharp. \nWe should be back at approximately 6:30pm. \nGrab your tickets here!
URL:https://www.brewangels.com/event/pub-crawl-2/
LOCATION:Dicks Sporting Goods\, 2760 Reynolds Ranch Parkway\, Lodi\, CA\, 95240\, United States
END:VEVENT
BEGIN:VEVENT
DTSTART;TZID=America/Los_Angeles:20230909T140000
DTEND;TZID=America/Los_Angeles:20230909T170000
DTSTAMP:20260423T172802
CREATED:20230823T051556Z
LAST-MODIFIED:20230825T032502Z
UID:1054-1694268000-1694278800@www.brewangels.com
SUMMARY:September 9th Meeting
DESCRIPTION:Hi Everyone\,\nThe September 9th meeting will be “Octoberfest” at my house:\nMike and Marianne’s\nOakley Ca. 94561\nIt’ll be German-themed. We’ll be grilling sausages\, so bring a side dish to match.\nBill will be making a red cabbage dish and if we’re lucky Rick will make a German potato salad.\nLet the group know what side dish you plan to bring so we have a variety. \nFor beer school\, let’s do Bock beers (any kind).\nWe usually start this one early\, so show up anytime after 11:00am. We’ll plan on eating around 1:30 or 2:00.\nAs always kegs are welcome!!\nPlease let us know if you can make it so we can get enough sausages.
URL:https://www.brewangels.com/event/september-9th-meeting/
LOCATION:CA
END:VEVENT
BEGIN:VEVENT
DTSTART;TZID=America/Los_Angeles:20230805T100000
DTEND;TZID=America/Los_Angeles:20230805T170000
DTSTAMP:20260423T172802
CREATED:20230710T033030Z
LAST-MODIFIED:20230710T033030Z
UID:1032-1691229600-1691254800@www.brewangels.com
SUMMARY:August 5th Picnic
DESCRIPTION:Picknic at Mickeys grove
URL:https://www.brewangels.com/event/august-5th-picnic/
LOCATION:CA
END:VEVENT
BEGIN:VEVENT
DTSTART;TZID=America/Los_Angeles:20230701T110000
DTEND;TZID=America/Los_Angeles:20230701T170000
DTSTAMP:20260423T172802
CREATED:20230623T043327Z
LAST-MODIFIED:20230623T043327Z
UID:1024-1688209200-1688230800@www.brewangels.com
SUMMARY:July 1st meeting
DESCRIPTION:The July 1st meeting will be at John Mansu’s house.\n\nWe’ll start about 11:00am organizing the home brew competition beers.\n\nWhen we’re done\, we’ll have the meeting\, probably around 2:00pm. \n\nJohn will be maki g his Italian sausages\, and we’ll plan on a later lunch. Bring sides and appetizers.
URL:https://www.brewangels.com/event/july-1st-meeting/
LOCATION:CA
END:VEVENT
BEGIN:VEVENT
DTSTART;TZID=America/Los_Angeles:20230603T120000
DTEND;TZID=America/Los_Angeles:20230603T170000
DTSTAMP:20260423T172802
CREATED:20230130T042817Z
LAST-MODIFIED:20230130T042817Z
UID:972-1685793600-1685811600@www.brewangels.com
SUMMARY:June Meeting
DESCRIPTION:At Bills home in Jackson
URL:https://www.brewangels.com/event/june-meeting/
LOCATION:CA
END:VEVENT
BEGIN:VEVENT
DTSTART;TZID=America/Los_Angeles:20230515T080000
DTEND;TZID=America/Los_Angeles:20230623T170000
DTSTAMP:20260423T172802
CREATED:20230515T044311Z
LAST-MODIFIED:20230519T041241Z
UID:997-1684137600-1687539600@www.brewangels.com
SUMMARY:Amador County Fair Homebrew Competition
DESCRIPTION:Registration is open from May 15th to June 23rd.\nLast drop off or delivery date for entries is June 28th\nCompetition will be held on July 8th at Highwater Brewing in Lodi\nRefer to registration site for ship to and drop off locations\nLink to registration site:\n\nhttps://reggiebeer.com/ReggieEntry.php?CompetitionID=WHGQCR1000800\nSame link for entries\, Judges\, and stewards/
URL:https://www.brewangels.com/event/amador-brewing-competition/
LOCATION:CA
END:VEVENT
BEGIN:VEVENT
DTSTART;TZID=America/Los_Angeles:20230506T080000
DTEND;TZID=America/Los_Angeles:20230506T170000
DTSTAMP:20260423T172802
CREATED:20221223T073220Z
LAST-MODIFIED:20221223T073305Z
UID:956-1683360000-1683392400@www.brewangels.com
SUMMARY:May 6th Meeting and Picnic
DESCRIPTION:Picnic at Mickeys Grove
URL:https://www.brewangels.com/event/may-6th-meeting-and-picnic/
LOCATION:CA
END:VEVENT
BEGIN:VEVENT
DTSTART;TZID=America/Los_Angeles:20230401T130000
DTEND;TZID=America/Los_Angeles:20230401T160000
DTSTAMP:20260423T172802
CREATED:20221223T073146Z
LAST-MODIFIED:20230316T000428Z
UID:954-1680354000-1680364800@www.brewangels.com
SUMMARY:April 1 meeting
DESCRIPTION:At John and Ellas house in Valley Springs\, Ca. \nStart time 1:00pm \nMore details to follow
URL:https://www.brewangels.com/event/april-1-meeting/
LOCATION:CA
END:VEVENT
BEGIN:VEVENT
DTSTART;TZID=America/Los_Angeles:20230311T163000
DTEND;TZID=America/Los_Angeles:20230311T200000
DTSTAMP:20260423T172802
CREATED:20220420T030302Z
LAST-MODIFIED:20230221T220459Z
UID:864-1678552200-1678564800@www.brewangels.com
SUMMARY:St Patricks Day Fundraiser 2023
DESCRIPTION:Mark your calendars\, \n3/11/2023 will be our 2023 corned beef fundraiser. \nHomebrew and mingling (as well as ticket purchases for our awesome raffle prizes) will begin at 4:30. Dinner is expected to be served at 6pm. \nCorned Beef simmered in beer then slow baked with a brown sugar mustard glaze\, potatoes\, cabbage\, breads and desserts. Door prizes\, a raffle\, great food and friends all in the warm comfort of the Micke Grove Memorial Auditorium. http://www.brewangels.com/ \nPurchase your tickets HERE!
URL:https://www.brewangels.com/event/st-patricks-day-fundraiser-2023/
LOCATION:Micke Grove Park\, 11793 N. Micke Grove Rd.\, Lodi\, CA\, 95240\, United States
END:VEVENT
BEGIN:VEVENT
DTSTART;TZID=America/Los_Angeles:20230304T120000
DTEND;TZID=America/Los_Angeles:20230304T150000
DTSTAMP:20260423T172802
CREATED:20221223T072736Z
LAST-MODIFIED:20230221T220907Z
UID:951-1677931200-1677942000@www.brewangels.com
SUMMARY:March 4th Meeting
DESCRIPTION:At Andy and Caras Home \nThe next meeting is March 4th at Andy and Cara’s house:\n\nAndy will be making pulled pork sliders. Bring side dishes or appetizers.\n\nThis is the last meeting before the Fundraiser\, please try to make it.\n\nBring raffle prizes to give to Ella so she can prepare then.
URL:https://www.brewangels.com/event/march-4th-meeting/
LOCATION:CA
END:VEVENT
BEGIN:VEVENT
DTSTART;TZID=America/Los_Angeles:20230204T100000
DTEND;TZID=America/Los_Angeles:20230204T170000
DTSTAMP:20260423T172802
CREATED:20221223T072643Z
LAST-MODIFIED:20230130T043102Z
UID:949-1675504800-1675530000@www.brewangels.com
SUMMARY:February 4th Meeting at Five Windows
DESCRIPTION:Brew Day at Five Windows brewery \nPlease come out and brew!! and bring a keg if you have one available to share (even if you aren’t brewing). \nBrew day will start at 10:00am.\nThe meeting will be after we finish brewing\, probably around 3:00.\n\nPlease bring as many raffle prize donations for St. Patrick’s day as possible so we can give them to Ella. This will give her time to put her magic touch on them for the fundraiser.
URL:https://www.brewangels.com/event/february-5th-meeting-at-five-windows/
LOCATION:CA
END:VEVENT
BEGIN:VEVENT
DTSTART;TZID=America/Los_Angeles:20230114T080000
DTEND;TZID=America/Los_Angeles:20230114T170000
DTSTAMP:20260423T172802
CREATED:20230115T072543Z
LAST-MODIFIED:20221223T073009Z
UID:947-1673683200-1673715600@www.brewangels.com
SUMMARY:January 14th Meeting
DESCRIPTION:Brew Day/Chili Cookoff at the Mansu residence
URL:https://www.brewangels.com/event/january-14th-meeting/
LOCATION:CA
END:VEVENT
BEGIN:VEVENT
DTSTART;TZID=America/Los_Angeles:20221203T150000
DTEND;TZID=America/Los_Angeles:20221203T190000
DTSTAMP:20260423T172802
CREATED:20221115T180005Z
LAST-MODIFIED:20221115T180005Z
UID:941-1670079600-1670094000@www.brewangels.com
SUMMARY:Christmas Party
DESCRIPTION:Xmas party at Samie’s house in Galt Saturday Dec 3rd. Start time 3:00pm with dinner at 5:00pm. \n  \nHam and Turkey entree provided. Members bring sides and desserts. \n  \nPlease bring beer or your favorite Holiday beverage to share.
URL:https://www.brewangels.com/event/christmas-party-2/
LOCATION:CA
END:VEVENT
END:VCALENDAR