BEGIN:VCALENDAR
VERSION:2.0
PRODID:-//BrewAngels.Com - ECPv6.15.20//NONSGML v1.0//EN
CALSCALE:GREGORIAN
METHOD:PUBLISH
X-ORIGINAL-URL:https://www.brewangels.com
X-WR-CALDESC:Events for BrewAngels.Com
REFRESH-INTERVAL;VALUE=DURATION:PT1H
X-Robots-Tag:noindex
X-PUBLISHED-TTL:PT1H
BEGIN:VTIMEZONE
TZID:America/Los_Angeles
BEGIN:DAYLIGHT
TZOFFSETFROM:-0800
TZOFFSETTO:-0700
TZNAME:PDT
DTSTART:20250309T100000
END:DAYLIGHT
BEGIN:STANDARD
TZOFFSETFROM:-0700
TZOFFSETTO:-0800
TZNAME:PST
DTSTART:20251102T090000
END:STANDARD
BEGIN:DAYLIGHT
TZOFFSETFROM:-0800
TZOFFSETTO:-0700
TZNAME:PDT
DTSTART:20260308T100000
END:DAYLIGHT
BEGIN:STANDARD
TZOFFSETFROM:-0700
TZOFFSETTO:-0800
TZNAME:PST
DTSTART:20261101T090000
END:STANDARD
BEGIN:DAYLIGHT
TZOFFSETFROM:-0800
TZOFFSETTO:-0700
TZNAME:PDT
DTSTART:20270314T100000
END:DAYLIGHT
BEGIN:STANDARD
TZOFFSETFROM:-0700
TZOFFSETTO:-0800
TZNAME:PST
DTSTART:20271107T090000
END:STANDARD
END:VTIMEZONE
BEGIN:VEVENT
DTSTART;VALUE=DATE:20260801
DTEND;VALUE=DATE:20260802
DTSTAMP:20260423T154002
CREATED:20260420T062512Z
LAST-MODIFIED:20260420T062512Z
UID:1278-1785542400-1785628799@www.brewangels.com
SUMMARY:August 1st meeting (Bills house)
DESCRIPTION:August 1st meeting (Bills house)
URL:https://www.brewangels.com/event/august-1st-meeting-bills-house/
END:VEVENT
BEGIN:VEVENT
DTSTART;VALUE=DATE:20260912
DTEND;VALUE=DATE:20260913
DTSTAMP:20260423T154002
CREATED:20260420T062539Z
LAST-MODIFIED:20260420T062539Z
UID:1280-1789171200-1789257599@www.brewangels.com
SUMMARY:September 12th Club Picnic (Mickey’s Grove)
DESCRIPTION:September 12th Club Picnic (Mickey’s Grove)
URL:https://www.brewangels.com/event/september-12th-club-picnic-mickeys-grove/
END:VEVENT
BEGIN:VEVENT
DTSTART;VALUE=DATE:20261107
DTEND;VALUE=DATE:20261108
DTSTAMP:20260423T154002
CREATED:20260420T062628Z
LAST-MODIFIED:20260420T062659Z
UID:1282-1794009600-1794095999@www.brewangels.com
SUMMARY:November 7th meeting
DESCRIPTION:November 7th meeting (need host)
URL:https://www.brewangels.com/event/november-7th-meeting/
END:VEVENT
BEGIN:VEVENT
DTSTART;VALUE=DATE:20261205
DTEND;VALUE=DATE:20261206
DTSTAMP:20260423T154002
CREATED:20260420T062724Z
LAST-MODIFIED:20260420T062724Z
UID:1284-1796428800-1796515199@www.brewangels.com
SUMMARY:December 5th meeting - Christmas Party
DESCRIPTION:December 5th meeting – Christmas Party
URL:https://www.brewangels.com/event/december-5th-meeting-christmas-party/
END:VEVENT
END:VCALENDAR