BEGIN:VCALENDAR
VERSION:2.0
PRODID:-//BrewAngels.Com - ECPv6.15.20//NONSGML v1.0//EN
CALSCALE:GREGORIAN
METHOD:PUBLISH
X-WR-CALNAME:BrewAngels.Com
X-ORIGINAL-URL:https://www.brewangels.com
X-WR-CALDESC:Events for BrewAngels.Com
REFRESH-INTERVAL;VALUE=DURATION:PT1H
X-Robots-Tag:noindex
X-PUBLISHED-TTL:PT1H
BEGIN:VTIMEZONE
TZID:America/Los_Angeles
BEGIN:DAYLIGHT
TZOFFSETFROM:-0800
TZOFFSETTO:-0700
TZNAME:PDT
DTSTART:20180311T100000
END:DAYLIGHT
BEGIN:STANDARD
TZOFFSETFROM:-0700
TZOFFSETTO:-0800
TZNAME:PST
DTSTART:20181104T090000
END:STANDARD
BEGIN:DAYLIGHT
TZOFFSETFROM:-0800
TZOFFSETTO:-0700
TZNAME:PDT
DTSTART:20190310T100000
END:DAYLIGHT
BEGIN:STANDARD
TZOFFSETFROM:-0700
TZOFFSETTO:-0800
TZNAME:PST
DTSTART:20191103T090000
END:STANDARD
BEGIN:DAYLIGHT
TZOFFSETFROM:-0800
TZOFFSETTO:-0700
TZNAME:PDT
DTSTART:20200308T100000
END:DAYLIGHT
BEGIN:STANDARD
TZOFFSETFROM:-0700
TZOFFSETTO:-0800
TZNAME:PST
DTSTART:20201101T090000
END:STANDARD
END:VTIMEZONE
BEGIN:VEVENT
DTSTART;TZID=America/Los_Angeles:20191214T160000
DTEND;TZID=America/Los_Angeles:20191214T210000
DTSTAMP:20260423T200119
CREATED:20191115T045700Z
LAST-MODIFIED:20191115T212050Z
UID:140-1576339200-1576357200@www.brewangels.com
SUMMARY:Brew Angels Annual Christmas Party
DESCRIPTION:The annual Brew Angels Christmas Party will be on December 14\, 2019 at the Quail Lakes Clubhouse. Members are encouraged to bring side dishes\, desserts\, and of course homebrew. The tapper will be available but bring a faucet and gas just in case. In addition\, members are encouraged to bring chairs if they wish to sit around outside\, small tables for outside\, and space heaters for outside. \nThe club will be contributing to Toys for Tots. Please bring a new toy to donate. \nCheers and we look forward to seeing all members!
URL:https://www.brewangels.com/event/brew-angels-annual-christmas-party/
LOCATION:Quail Lakes Clubhouse\, 3808 Quail Lakes Dr\, Stockton\, CA\, 95207\, United States
CATEGORIES:Meetings,Special Events
END:VEVENT
END:VCALENDAR