BEGIN:VCALENDAR
VERSION:2.0
PRODID:-//BrewAngels.Com - ECPv6.15.20//NONSGML v1.0//EN
CALSCALE:GREGORIAN
METHOD:PUBLISH
X-WR-CALNAME:BrewAngels.Com
X-ORIGINAL-URL:https://www.brewangels.com
X-WR-CALDESC:Events for BrewAngels.Com
REFRESH-INTERVAL;VALUE=DURATION:PT1H
X-Robots-Tag:noindex
X-PUBLISHED-TTL:PT1H
BEGIN:VTIMEZONE
TZID:America/Los_Angeles
BEGIN:DAYLIGHT
TZOFFSETFROM:-0800
TZOFFSETTO:-0700
TZNAME:PDT
DTSTART:20190310T100000
END:DAYLIGHT
BEGIN:STANDARD
TZOFFSETFROM:-0700
TZOFFSETTO:-0800
TZNAME:PST
DTSTART:20191103T090000
END:STANDARD
BEGIN:DAYLIGHT
TZOFFSETFROM:-0800
TZOFFSETTO:-0700
TZNAME:PDT
DTSTART:20200308T100000
END:DAYLIGHT
BEGIN:STANDARD
TZOFFSETFROM:-0700
TZOFFSETTO:-0800
TZNAME:PST
DTSTART:20201101T090000
END:STANDARD
BEGIN:DAYLIGHT
TZOFFSETFROM:-0800
TZOFFSETTO:-0700
TZNAME:PDT
DTSTART:20210314T100000
END:DAYLIGHT
BEGIN:STANDARD
TZOFFSETFROM:-0700
TZOFFSETTO:-0800
TZNAME:PST
DTSTART:20211107T090000
END:STANDARD
END:VTIMEZONE
BEGIN:VEVENT
DTSTART;TZID=America/Los_Angeles:20200516T100000
DTEND;TZID=America/Los_Angeles:20200516T130000
DTSTAMP:20260423T163045
CREATED:20200131T200559Z
LAST-MODIFIED:20200401T135848Z
UID:515-1589623200-1589634000@www.brewangels.com
SUMMARY:Amador Homebrew Organizing
DESCRIPTION:Meet at Highwater brewing to register and organize homebrew entries.
URL:https://www.brewangels.com/event/amador-homebrew-registration/
LOCATION:Highwater Brewing\, 927 Industrial Way\, Lodi\, CA\, 95240\, United States
CATEGORIES:Beer Competitions
END:VEVENT
BEGIN:VEVENT
DTSTART;TZID=America/Los_Angeles:20200509T000000
DTEND;TZID=America/Los_Angeles:20200509T150000
DTSTAMP:20260423T163045
CREATED:20190517T040741Z
LAST-MODIFIED:20200401T135639Z
UID:75-1588982400-1589036400@www.brewangels.com
SUMMARY:Amador Homebrew Entry Cutoff
DESCRIPTION:Cutoff day for Amador Homebrew Competition entries.
URL:https://www.brewangels.com/event/cutoff-for-amador-homebrew-entries/
LOCATION:CA
CATEGORIES:Beer Competitions
END:VEVENT
END:VCALENDAR